BEGIN:VCALENDAR
VERSION:2.0
PRODID:-//eventon.com NONSGML v1.0//EN
CALSCALE:GREGORIAN
METHOD:PUBLISH
BEGIN:VEVENT
UID:69e63734bdf14
DTSTAMP:20260420T142452Z
DTSTART:20260509T123000Z
DTEND:20260509T133000Z
LOCATION:Matacha Studio Unit 7F\,  The Glass Yard\,  Chesterfield S41 8JY
SUMMARY:Chesterfield\,  Red Labrador 12:30pm
DESCRIPTION:Boost your serotonin and dopamine by playing and cuddling with 
 a large litter of Labrador puppies. The team at Puppy Love Events are highl
 y experienced in creating unforgettable experience&#8217;s\,  that greatly 
 benefit both puppies and participants. What are the benefits? Puppies &#821
 1; This event will play a crucial role in[..]\nhttps://take-a-paws.poochthe
 rapy.co.uk/events/chesterfield-red-labrador-1230pm/
URL:https://take-a-paws.poochtherapy.co.uk/events/chesterfield-red-labrador-1230pm/
END:VEVENT
END:VCALENDAR