BEGIN:VCALENDAR
VERSION:2.0
PRODID:-//eventon.com NONSGML v1.0//EN
CALSCALE:GREGORIAN
METHOD:PUBLISH
BEGIN:VEVENT
UID:69e63865289ab
DTSTAMP:20260420T142957Z
DTSTART:20260508T180000Z
DTEND:20260508T190000Z
LOCATION:Reform Lounge Unit 1\,  Intake Business Centre\,  Kirkland Ave\,  Mansfield NG18 5QP
SUMMARY:Mansfield\,  Red Labrador 6pm
DESCRIPTION:Boost your serotonin and dopamine by playing and cuddling with 
 a large litter of Labrador puppies. The team at Puppy Love Events are highl
 y experienced in creating unforgettable experience&#8217;s\,  that greatly 
 benefit both puppies and participants. What are the benefits? Puppies &#821
 1; This event will play a crucial role in[..]\nhttps://take-a-paws.poochthe
 rapy.co.uk/events/mansfield-red-labrador-6pm/
URL:https://take-a-paws.poochtherapy.co.uk/events/mansfield-red-labrador-6pm/
END:VEVENT
END:VCALENDAR