BEGIN:VCALENDAR
VERSION:2.0
PRODID:-//eventon.com NONSGML v1.0//EN
CALSCALE:GREGORIAN
METHOD:PUBLISH
BEGIN:VEVENT
UID:69e6371472941
DTSTAMP:20260420T142420Z
DTSTART:20260502T134500Z
DTEND:20260502T144500Z
LOCATION:The Woods 5\,  Stainbeck Corner\,  Chapel Allerton\,  Leeds LS7 3PG
SUMMARY:Leeds\,  Red Labrador 1:45pm
DESCRIPTION:Boost your serotonin and dopamine by playing and cuddling with 
 a large litter of Labrador puppies. The team at Puppy Love Events are highl
 y experienced in creating unforgettable experience&#8217;s\,  that greatly 
 benefit both puppies and participants. What are the benefits? Puppies &#821
 1; This event will play a crucial role in[..]\nhttps://take-a-paws.poochthe
 rapy.co.uk/events/leeds-red-labrador-145pm/
URL:https://take-a-paws.poochtherapy.co.uk/events/leeds-red-labrador-145pm/
END:VEVENT
END:VCALENDAR