BEGIN:VCALENDAR
VERSION:2.0
PRODID:-//eventon.com NONSGML v1.0//EN
CALSCALE:GREGORIAN
METHOD:PUBLISH
BEGIN:VEVENT
UID:69e62239919c7
DTSTAMP:20260420T125521Z
DTSTART:20260517T123000Z
DTEND:20260517T133000Z
LOCATION:Milestone Tap Great N Rd\,  Cromwell\,  Newark NG23 6JE
SUMMARY:Newark\,  Red Labradors\,  12:30 pm
DESCRIPTION:Boost your serotonin and dopamine by playing and cuddling with 
 a large litter of Labrador puppies. The team at Puppy Love Events are highl
 y experienced in creating unforgettable experience&#8217;s\,  that greatly 
 benefit both puppies and participants. What are the benefits? Puppies &#821
 1; This event will play a crucial role in[..]\nhttps://take-a-paws.poochthe
 rapy.co.uk/events/newark-red-labradors-1230-pm/
URL:https://take-a-paws.poochtherapy.co.uk/events/newark-red-labradors-1230-pm/
END:VEVENT
END:VCALENDAR