BEGIN:VCALENDAR
VERSION:2.0
PRODID:-//eventon.com NONSGML v1.0//EN
CALSCALE:GREGORIAN
METHOD:PUBLISH
BEGIN:VEVENT
UID:69e6228a48c11
DTSTAMP:20260420T125642Z
DTSTART:20260503T134500Z
DTEND:20260503T144500Z
LOCATION:Bunker Indoor Golf 4 Longden St\,  Nottingham NG3 1JN
SUMMARY:Nottingham\,  Red Labrador 1:45pm
DESCRIPTION:Boost your serotonin and dopamine by playing and cuddling with 
 a large litter of Labrador puppies. The team at Puppy Love Events are highl
 y experienced in creating unforgettable experience&#8217;s\,  that greatly 
 benefit both puppies and participants. What are the benefits? Puppies &#821
 1; This event will play a crucial role in[..]\nhttps://take-a-paws.poochthe
 rapy.co.uk/events/nottingham-red-labrador-145pm/
URL:https://take-a-paws.poochtherapy.co.uk/events/nottingham-red-labrador-145pm/
END:VEVENT
END:VCALENDAR