BEGIN:VCALENDAR
VERSION:2.0
PRODID:-//eventon.com NONSGML v1.0//EN
CALSCALE:GREGORIAN
METHOD:PUBLISH
BEGIN:VEVENT
UID:69e622d9acd6c
DTSTAMP:20260420T125801Z
DTSTART:20260516T134500Z
DTEND:20260516T144500Z
LOCATION:Cornhill Market Central Market\,  Sincil St\,  Lincoln LN5 7ET
SUMMARY:Lincoln\,  Red Labrador 1:45
DESCRIPTION:Boost your serotonin and dopamine by playing and cuddling with 
 a large litter of Labrador puppies. The team at Puppy Love Events are highl
 y experienced in creating unforgettable experience&#8217;s\,  that greatly 
 benefit both puppies and participants. What are the benefits? Puppies &#821
 1; This event will play a crucial role in[..]\nhttps://take-a-paws.poochthe
 rapy.co.uk/events/lincoln-red-labrador-145/
URL:https://take-a-paws.poochtherapy.co.uk/events/lincoln-red-labrador-145/
END:VEVENT
END:VCALENDAR