BEGIN:VCALENDAR
VERSION:2.0
PRODID:-//eventon.com NONSGML v1.0//EN
CALSCALE:GREGORIAN
METHOD:PUBLISH
BEGIN:VEVENT
UID:69e637888d9e1
DTSTAMP:20260420T142616Z
DTSTART:20260425T134500Z
DTEND:20260425T144500Z
LOCATION:
SUMMARY:Worksop Nottinghamshire\,  Red Labrador 13:45
DESCRIPTION:The Ticking Clock @ Worksop Come and unwind in the joyful compa
 ny of a large litter of Labrador puppies. This extra-special event is your 
 chance to boost your mood with playtime\,  cuddles\,  and snuggles galore f
 rom these adorable four-legged charmers. With over three years’ experienc
 e hosting puppy petting events\,  we’re[..]\nhttps://take-a-paws.poochthe
 rapy.co.uk/events/worksop-red-labrador-1345/
URL:https://take-a-paws.poochtherapy.co.uk/events/worksop-red-labrador-1345/
END:VEVENT
END:VCALENDAR